BEGIN:VCALENDAR
VERSION:2.0
PRODID:-//pretix//pinballevents.de//
BEGIN:VTIMEZONE
TZID:Europe/Paris
BEGIN:STANDARD
DTSTART:20001029T040000
RRULE:FREQ=YEARLY;BYDAY=-1SU;BYMONTH=10
TZNAME:CET
TZOFFSETFROM:+0200
TZOFFSETTO:+0100
END:STANDARD
BEGIN:DAYLIGHT
DTSTART:20000326T030000
RRULE:FREQ=YEARLY;BYDAY=-1SU;BYMONTH=3
TZNAME:CEST
TZOFFSETFROM:+0100
TZOFFSETTO:+0200
END:DAYLIGHT
END:VTIMEZONE
BEGIN:VEVENT
UID:pretix-ifpa-france-MaxiWinter-0@www.pinballevents.de
DTSTART;TZID=Europe/Paris:20251213T100000
DTEND;TZID=Europe/Paris:20251214T213000
DESCRIPTION:Tickets: https://www.pinballevents.de/ifpa-france/MaxiWinter/\n
 Organizer: IFPA France
DTSTAMP:20260424T235219Z
LOCATION:MaxiPinball\, 9006 Rue de l'Industrie\, 59113 Seclin
SUMMARY:MaxiWinter is coming ! (last chance for FCS Final)
END:VEVENT
END:VCALENDAR
