BEGIN:VCALENDAR
VERSION:2.0
PRODID:-//pretix//pinballevents.de//
BEGIN:VTIMEZONE
TZID:Europe/Berlin
BEGIN:STANDARD
DTSTART:20001029T040000
RRULE:FREQ=YEARLY;BYDAY=-1SU;BYMONTH=10
TZNAME:CET
TZOFFSETFROM:+0200
TZOFFSETTO:+0100
END:STANDARD
BEGIN:DAYLIGHT
DTSTART:20000326T030000
RRULE:FREQ=YEARLY;BYDAY=-1SU;BYMONTH=3
TZNAME:CEST
TZOFFSETFROM:+0100
TZOFFSETTO:+0200
END:DAYLIGHT
END:VTIMEZONE
BEGIN:VEVENT
UID:pretix-saarcade-bt1225-351@www.pinballevents.de
DTSTART;TZID=Europe/Berlin:20251221T130000
DTEND;TZID=Europe/Berlin:20251221T170000
DESCRIPTION:Tickets: https://www.pinballevents.de/saarcade/bt1225/351/\nEin
 lass: 21.12.2025 12:30\nVeranstalter: Saarcade e.V.
DTSTAMP:20260422T220446Z
LOCATION:Schillerstraße 22\, 66540 Wiebelskirchen
SUMMARY:Besuchertage im Flipper- und Arcademuseum Dezember 2025
END:VEVENT
END:VCALENDAR
